BEGIN:VCALENDAR
VERSION:2.0
PRODID:-//UISS - ECPv6.15.20//NONSGML v1.0//EN
CALSCALE:GREGORIAN
METHOD:PUBLISH
X-WR-CALNAME:UISS
X-ORIGINAL-URL:https://uiss.org
X-WR-CALDESC:Events for UISS
REFRESH-INTERVAL;VALUE=DURATION:PT1H
X-Robots-Tag:noindex
X-PUBLISHED-TTL:PT1H
BEGIN:VTIMEZONE
TZID:Europe/Stockholm
BEGIN:DAYLIGHT
TZOFFSETFROM:+0100
TZOFFSETTO:+0200
TZNAME:CEST
DTSTART:20210328T010000
END:DAYLIGHT
BEGIN:STANDARD
TZOFFSETFROM:+0200
TZOFFSETTO:+0100
TZNAME:CET
DTSTART:20211031T010000
END:STANDARD
BEGIN:DAYLIGHT
TZOFFSETFROM:+0100
TZOFFSETTO:+0200
TZNAME:CEST
DTSTART:20220327T010000
END:DAYLIGHT
BEGIN:STANDARD
TZOFFSETFROM:+0200
TZOFFSETTO:+0100
TZNAME:CET
DTSTART:20221030T010000
END:STANDARD
BEGIN:DAYLIGHT
TZOFFSETFROM:+0100
TZOFFSETTO:+0200
TZNAME:CEST
DTSTART:20230326T010000
END:DAYLIGHT
BEGIN:STANDARD
TZOFFSETFROM:+0200
TZOFFSETTO:+0100
TZNAME:CET
DTSTART:20231029T010000
END:STANDARD
END:VTIMEZONE
BEGIN:VEVENT
DTSTART;TZID=Europe/Stockholm:20220708T190000
DTEND;TZID=Europe/Stockholm:20220713T100000
DTSTAMP:20260421T121208
CREATED:20201004T163732Z
LAST-MODIFIED:20211010T095831Z
UID:6522-1657306800-1657706400@uiss.org
SUMMARY:Trip to Lapland
DESCRIPTION:
URL:https://uiss.org/event/trip-to-lapland/
CATEGORIES:Longer trips
ATTACH;FMTTYPE=image/jpeg:https://uiss.org/wp-content/uploads/2019/10/5.Lapland.jpg
END:VEVENT
END:VCALENDAR