BEGIN:VCALENDAR
VERSION:2.0
PRODID:-//UISS - ECPv6.15.20//NONSGML v1.0//EN
CALSCALE:GREGORIAN
METHOD:PUBLISH
X-ORIGINAL-URL:https://uiss.org
X-WR-CALDESC:Events for UISS
REFRESH-INTERVAL;VALUE=DURATION:PT1H
X-Robots-Tag:noindex
X-PUBLISHED-TTL:PT1H
BEGIN:VTIMEZONE
TZID:Europe/Stockholm
BEGIN:DAYLIGHT
TZOFFSETFROM:+0100
TZOFFSETTO:+0200
TZNAME:CEST
DTSTART:20210328T010000
END:DAYLIGHT
BEGIN:STANDARD
TZOFFSETFROM:+0200
TZOFFSETTO:+0100
TZNAME:CET
DTSTART:20211031T010000
END:STANDARD
BEGIN:DAYLIGHT
TZOFFSETFROM:+0100
TZOFFSETTO:+0200
TZNAME:CEST
DTSTART:20220327T010000
END:DAYLIGHT
BEGIN:STANDARD
TZOFFSETFROM:+0200
TZOFFSETTO:+0100
TZNAME:CET
DTSTART:20221030T010000
END:STANDARD
BEGIN:DAYLIGHT
TZOFFSETFROM:+0100
TZOFFSETTO:+0200
TZNAME:CEST
DTSTART:20230326T010000
END:DAYLIGHT
BEGIN:STANDARD
TZOFFSETFROM:+0200
TZOFFSETTO:+0100
TZNAME:CET
DTSTART:20231029T010000
END:STANDARD
END:VTIMEZONE
BEGIN:VEVENT
DTSTART;TZID=Europe/Stockholm:20220715T093000
DTEND;TZID=Europe/Stockholm:20220715T183000
DTSTAMP:20260421T114203
CREATED:20211010T104025Z
LAST-MODIFIED:20220623T085342Z
UID:6864-1657877400-1657909800@uiss.org
SUMMARY:Trip to Stockholm
DESCRIPTION:Visit ABBA museum and guided tour Gamla Stan
URL:https://uiss.org/event/trip-to-stockholm-2/
ATTACH;FMTTYPE=image/jpeg:https://uiss.org/wp-content/uploads/2020/09/Abba-Museum-Stockholm-Sweden-gastrogays-wax-figures-close-up-1-1440x978-1.jpg
END:VEVENT
BEGIN:VEVENT
DTSTART;TZID=Europe/Stockholm:20220718T200000
DTEND;TZID=Europe/Stockholm:20220718T220000
DTSTAMP:20260421T114203
CREATED:20220623T084605Z
LAST-MODIFIED:20220623T084605Z
UID:7004-1658174400-1658181600@uiss.org
SUMMARY:Movie night
DESCRIPTION:
URL:https://uiss.org/event/movie-night-3/
END:VEVENT
BEGIN:VEVENT
DTSTART;TZID=Europe/Stockholm:20220720T190000
DTEND;TZID=Europe/Stockholm:20220720T233000
DTSTAMP:20260421T114203
CREATED:20220623T084911Z
LAST-MODIFIED:20220623T084911Z
UID:7006-1658343600-1658359800@uiss.org
SUMMARY:Potluck dinner
DESCRIPTION:Bring food from your own country
URL:https://uiss.org/event/potluck-dinner/
LOCATION:Vuxenskolan\, Kungsängsgatan 12\, Uppsala\, Sweden
END:VEVENT
BEGIN:VEVENT
DTSTART;TZID=Europe/Stockholm:20220721T140000
DTEND;TZID=Europe/Stockholm:20220724T100000
DTSTAMP:20260421T114203
CREATED:20211010T101612Z
LAST-MODIFIED:20220623T084504Z
UID:6855-1658412000-1658656800@uiss.org
SUMMARY:Trip to Finland
DESCRIPTION:
URL:https://uiss.org/event/trip-to-finland/
ATTACH;FMTTYPE=image/jpeg:https://uiss.org/wp-content/uploads/2020/09/Helsinki-short-scaled.jpg
END:VEVENT
BEGIN:VEVENT
DTSTART;TZID=Europe/Stockholm:20220722T083000
DTEND;TZID=Europe/Stockholm:20220722T180000
DTSTAMP:20260421T114203
CREATED:20220623T085742Z
LAST-MODIFIED:20220623T085742Z
UID:7010-1658478600-1658512800@uiss.org
SUMMARY:Trip to Gårdsjö Moose Park and Vallby Open Air Museum
DESCRIPTION:
URL:https://uiss.org/event/trip-to-gardsjo-moose-park-and-vallby-open-air-museum/
END:VEVENT
BEGIN:VEVENT
DTSTART;TZID=Europe/Stockholm:20220725T191500
DTEND;TZID=Europe/Stockholm:20220725T210000
DTSTAMP:20260421T114203
CREATED:20220623T111901Z
LAST-MODIFIED:20220623T111901Z
UID:7012-1658776500-1658782800@uiss.org
SUMMARY:Musikkväll / Allsång
DESCRIPTION:Students and staff perform in Drakensalen
URL:https://uiss.org/event/musikkvall-allsang/
END:VEVENT
BEGIN:VEVENT
DTSTART;TZID=Europe/Stockholm:20220727T083000
DTEND;TZID=Europe/Stockholm:20220727T103000
DTSTAMP:20260421T114203
CREATED:20220623T112705Z
LAST-MODIFIED:20220623T112705Z
UID:7014-1658910600-1658917800@uiss.org
SUMMARY:Exams
DESCRIPTION:
URL:https://uiss.org/event/exams-2/
END:VEVENT
BEGIN:VEVENT
DTSTART;TZID=Europe/Stockholm:20220727T132000
DTEND;TZID=Europe/Stockholm:20220727T134000
DTSTAMP:20260421T114203
CREATED:20220623T112819Z
LAST-MODIFIED:20220623T112819Z
UID:7016-1658928000-1658929200@uiss.org
SUMMARY:Information for 6 and 9 week students
DESCRIPTION:
URL:https://uiss.org/event/information-for-6-and-9-week-students-2/
END:VEVENT
BEGIN:VEVENT
DTSTART;TZID=Europe/Stockholm:20220728T083000
DTEND;TZID=Europe/Stockholm:20220728T083000
DTSTAMP:20260421T114203
CREATED:20220623T113016Z
LAST-MODIFIED:20220623T113016Z
UID:7019-1658997000-1658997000@uiss.org
SUMMARY:Classes as usual
DESCRIPTION:
URL:https://uiss.org/event/classes-as-usual-2/
END:VEVENT
BEGIN:VEVENT
DTSTART;TZID=Europe/Stockholm:20220728T114500
DTEND;TZID=Europe/Stockholm:20220728T123000
DTSTAMP:20260421T114203
CREATED:20220623T113129Z
LAST-MODIFIED:20220623T113129Z
UID:7021-1659008700-1659011400@uiss.org
SUMMARY:Information and certificate information in Drakensalen
DESCRIPTION:
URL:https://uiss.org/event/information-and-certificate-information-in-drakensalen/
END:VEVENT
BEGIN:VEVENT
DTSTART;TZID=Europe/Stockholm:20220728T180000
DTEND;TZID=Europe/Stockholm:20220728T233000
DTSTAMP:20260421T114203
CREATED:20220623T113247Z
LAST-MODIFIED:20220623T113247Z
UID:7023-1659031200-1659051000@uiss.org
SUMMARY:Farewell Dinner
DESCRIPTION:Theme: UISS Pride – Celebration of Diversity
URL:https://uiss.org/event/farewell-dinner-2/
END:VEVENT
BEGIN:VEVENT
DTSTART;TZID=Europe/Stockholm:20220729T100000
DTEND;TZID=Europe/Stockholm:20220729T120000
DTSTAMP:20260421T114203
CREATED:20211010T102018Z
LAST-MODIFIED:20220623T112911Z
UID:6858-1659088800-1659096000@uiss.org
SUMMARY:Check-out 3 and 6 week students
DESCRIPTION:
URL:https://uiss.org/event/check-out-3-week-students-2/
END:VEVENT
BEGIN:VEVENT
DTSTART;TZID=Europe/Stockholm:20220731T103000
DTEND;TZID=Europe/Stockholm:20220731T160000
DTSTAMP:20260421T114203
CREATED:20201004T163925Z
LAST-MODIFIED:20220623T093708Z
UID:6524-1659263400-1659283200@uiss.org
SUMMARY:Check-in new students
DESCRIPTION:
URL:https://uiss.org/event/check-in-new-students/
END:VEVENT
BEGIN:VEVENT
DTSTART;TZID=Europe/Stockholm:20220731T163000
DTEND;TZID=Europe/Stockholm:20220731T180000
DTSTAMP:20260421T114203
CREATED:20220627T064026Z
LAST-MODIFIED:20220627T064026Z
UID:7029-1659285000-1659290400@uiss.org
SUMMARY:General information about the program
DESCRIPTION:Opportunity to buy books
URL:https://uiss.org/event/general-information-about-the-program-3/
LOCATION:Vuxenskolan\, Kungsängsgatan 12\, Uppsala\, Sweden
END:VEVENT
BEGIN:VEVENT
DTSTART;TZID=Europe/Stockholm:20220731T183000
DTEND;TZID=Europe/Stockholm:20220731T200000
DTSTAMP:20260421T114203
CREATED:20220627T064512Z
LAST-MODIFIED:20220627T064512Z
UID:7031-1659292200-1659297600@uiss.org
SUMMARY:Welcome Dinner
DESCRIPTION:
URL:https://uiss.org/event/welcome-dinner-3/
END:VEVENT
BEGIN:VEVENT
DTSTART;TZID=Europe/Stockholm:20220801T083000
DTEND;TZID=Europe/Stockholm:20220801T083000
DTSTAMP:20260421T114203
CREATED:20211010T100741Z
LAST-MODIFIED:20220623T093810Z
UID:6851-1659342600-1659342600@uiss.org
SUMMARY:First classes session 3 start
DESCRIPTION:
URL:https://uiss.org/event/first-classes-session-3-start/
END:VEVENT
BEGIN:VEVENT
DTSTART;TZID=Europe/Stockholm:20220801T114500
DTEND;TZID=Europe/Stockholm:20220801T123000
DTSTAMP:20260421T114203
CREATED:20220627T064642Z
LAST-MODIFIED:20220627T064642Z
UID:7033-1659354300-1659357000@uiss.org
SUMMARY:Information about the program in Drakensalen
DESCRIPTION:
URL:https://uiss.org/event/information-about-the-program-in-drakensalen/
END:VEVENT
BEGIN:VEVENT
DTSTART;TZID=Europe/Stockholm:20220801T163000
DTEND;TZID=Europe/Stockholm:20220801T180000
DTSTAMP:20260421T114203
CREATED:20220627T064728Z
LAST-MODIFIED:20220627T064728Z
UID:7035-1659371400-1659376800@uiss.org
SUMMARY:Guided tour of Uppsala
DESCRIPTION:
URL:https://uiss.org/event/guided-tour-of-uppsala-2/
END:VEVENT
BEGIN:VEVENT
DTSTART;TZID=Europe/Stockholm:20220802T190000
DTEND;TZID=Europe/Stockholm:20220802T210000
DTSTAMP:20260421T114203
CREATED:20220627T064907Z
LAST-MODIFIED:20220627T064907Z
UID:7037-1659466800-1659474000@uiss.org
SUMMARY:Social Evening
DESCRIPTION:
URL:https://uiss.org/event/social-evening-3/
END:VEVENT
BEGIN:VEVENT
DTSTART;TZID=Europe/Stockholm:20220804T193000
DTEND;TZID=Europe/Stockholm:20220804T233000
DTSTAMP:20260421T114203
CREATED:20220627T065005Z
LAST-MODIFIED:20220627T065005Z
UID:7039-1659641400-1659655800@uiss.org
SUMMARY:Pub crawl / pubrunda
DESCRIPTION:
URL:https://uiss.org/event/pub-crawl-pubrunda/
END:VEVENT
BEGIN:VEVENT
DTSTART;TZID=Europe/Stockholm:20220805T090000
DTEND;TZID=Europe/Stockholm:20220805T183000
DTSTAMP:20260421T114203
CREATED:20211010T104409Z
LAST-MODIFIED:20220623T114641Z
UID:6868-1659690000-1659724200@uiss.org
SUMMARY:Trip to Stockholm
DESCRIPTION:Nordiska muséet och Stadshuset
URL:https://uiss.org/event/trip-to-sala-silver-mine-gardsjo-algpark/
ATTACH;FMTTYPE=image/jpeg:https://uiss.org/wp-content/uploads/2020/05/39.-Study-trip-World-heritage-sight.jpg
END:VEVENT
BEGIN:VEVENT
DTSTART;TZID=Europe/Stockholm:20220808T200000
DTEND;TZID=Europe/Stockholm:20220808T220000
DTSTAMP:20260421T114203
CREATED:20220627T065107Z
LAST-MODIFIED:20220627T065107Z
UID:7041-1659988800-1659996000@uiss.org
SUMMARY:Movie night
DESCRIPTION:
URL:https://uiss.org/event/movie-night-4/
LOCATION:Vuxenskolan\, Kungsängsgatan 12\, Uppsala\, Sweden
END:VEVENT
BEGIN:VEVENT
DTSTART;TZID=Europe/Stockholm:20220811T190000
DTEND;TZID=Europe/Stockholm:20220811T233000
DTSTAMP:20260421T114203
CREATED:20220627T065218Z
LAST-MODIFIED:20220627T065218Z
UID:7043-1660244400-1660260600@uiss.org
SUMMARY:Crayfish party / kräftskiva in Drakensalen
DESCRIPTION:
URL:https://uiss.org/event/crayfish-party-kraftskiva-in-drakensalen/
LOCATION:Vuxenskolan\, Kungsängsgatan 12\, Uppsala\, Sweden
END:VEVENT
BEGIN:VEVENT
DTSTART;TZID=Europe/Stockholm:20220812T083000
DTEND;TZID=Europe/Stockholm:20220812T170000
DTSTAMP:20260421T114203
CREATED:20211010T103908Z
LAST-MODIFIED:20220623T114438Z
UID:6862-1660293000-1660323600@uiss.org
SUMMARY:Trip to Skokloster and Sigtuna
DESCRIPTION:
URL:https://uiss.org/event/trip-to-skokloster-sigtuna/
ATTACH;FMTTYPE=image/jpeg:https://uiss.org/wp-content/uploads/2020/09/skokloster.jpg
END:VEVENT
BEGIN:VEVENT
DTSTART;TZID=Europe/Stockholm:20220815T191500
DTEND;TZID=Europe/Stockholm:20220815T213000
DTSTAMP:20260421T114203
CREATED:20220627T065400Z
LAST-MODIFIED:20220627T065400Z
UID:7045-1660590900-1660599000@uiss.org
SUMMARY:Musical Evening / Allsång
DESCRIPTION:Students and staff perform in Drakensalen
URL:https://uiss.org/event/musical-evening-allsang/
LOCATION:Vuxenskolan\, Kungsängsgatan 12\, Uppsala\, Sweden
END:VEVENT
BEGIN:VEVENT
DTSTART;TZID=Europe/Stockholm:20220817T083000
DTEND;TZID=Europe/Stockholm:20220817T103000
DTSTAMP:20260421T114203
CREATED:20220627T065527Z
LAST-MODIFIED:20220627T065527Z
UID:7047-1660725000-1660732200@uiss.org
SUMMARY:Final exams
DESCRIPTION:
URL:https://uiss.org/event/final-exams/
LOCATION:Vuxenskolan\, Kungsängsgatan 12\, Uppsala\, Sweden
END:VEVENT
BEGIN:VEVENT
DTSTART;TZID=Europe/Stockholm:20220818T083000
DTEND;TZID=Europe/Stockholm:20220818T083000
DTSTAMP:20260421T114203
CREATED:20220627T065603Z
LAST-MODIFIED:20220627T065603Z
UID:7049-1660811400-1660811400@uiss.org
SUMMARY:Classes as usual
DESCRIPTION:
URL:https://uiss.org/event/classes-as-usual-3/
END:VEVENT
BEGIN:VEVENT
DTSTART;TZID=Europe/Stockholm:20220818T113000
DTEND;TZID=Europe/Stockholm:20220818T123000
DTSTAMP:20260421T114203
CREATED:20220627T065654Z
LAST-MODIFIED:20220627T065654Z
UID:7051-1660822200-1660825800@uiss.org
SUMMARY:Information and certificate ceremony in Drakensalen
DESCRIPTION:
URL:https://uiss.org/event/information-and-certificate-ceremony-in-drakensalen/
END:VEVENT
BEGIN:VEVENT
DTSTART;TZID=Europe/Stockholm:20220818T180000
DTEND;TZID=Europe/Stockholm:20220818T233000
DTSTAMP:20260421T114203
CREATED:20220627T065750Z
LAST-MODIFIED:20220627T065750Z
UID:7053-1660845600-1660865400@uiss.org
SUMMARY:Farewell Dinner
DESCRIPTION:Theme: Swedish Student Gasque
URL:https://uiss.org/event/farewell-dinner-3/
END:VEVENT
BEGIN:VEVENT
DTSTART;TZID=Europe/Stockholm:20220819T120000
DTEND;TZID=Europe/Stockholm:20220819T140000
DTSTAMP:20260421T114203
CREATED:20211010T105132Z
LAST-MODIFIED:20211010T105132Z
UID:6871-1660910400-1660917600@uiss.org
SUMMARY:Check-out all students
DESCRIPTION:
URL:https://uiss.org/event/check-out-all-students/
END:VEVENT
END:VCALENDAR